{
 "currentVersion": 10.81,
 "serviceDescription": "This orthorectified natural color imagery is part of an orthophotography project covering 17 counties in north central Texas. The orthophotography is tiled into a grid of images which depict color aerial photographs. Lens and terrain distortion has been removed and tonal differences between adjacent images have been minimized to form a mosaic of the entire 17 county project area. Orthorectified imagery is assumed to depict features at ground level, so above ground features may show terrain distortion. The only exceptions to this are bridges and elevated roads, which have been checked for distortion and manually replaced by their previous unrectified versions.",
 "name": "Aerials/2007_NCTCOG_Ortho",
 "description": "This orthorectified natural color imagery is part of an orthophotography project covering 17 counties in north central Texas. The orthophotography is tiled into a grid of images which depict color aerial photographs. Lens and terrain distortion has been removed and tonal differences between adjacent images have been minimized to form a mosaic of the entire 17 county project area. Orthorectified imagery is assumed to depict features at ground level, so above ground features may show terrain distortion. The only exceptions to this are bridges and elevated roads, which have been checked for distortion and manually replaced by their previous unrectified versions.",
 "extent": {
  "xmin": 2252990,
  "ymin": 6849990,
  "xmax": 2427010,
  "ymax": 7068010,
  "spatialReference": {
   "wkid": 102738,
   "latestWkid": 2276
  }
 },
 "initialExtent": {
  "xmin": 2252990,
  "ymin": 6849990,
  "xmax": 2427010,
  "ymax": 7068010,
  "spatialReference": {
   "wkid": 102738,
   "latestWkid": 2276
  }
 },
 "fullExtent": {
  "xmin": 2252990,
  "ymin": 6849990,
  "xmax": 2427010,
  "ymax": 7068010,
  "spatialReference": {
   "wkid": 102738,
   "latestWkid": 2276
  }
 },
 "pixelSizeX": 0.5,
 "pixelSizeY": 0.5,
 "bandCount": 3,
 "pixelType": "U8",
 "minPixelSize": 0.43402777777777773,
 "maxPixelSize": 434.02777777777777,
 "copyrightText": "Project funding for capture and distribution has been provided by TXDOT and a collaboration of regional public and private agencies.",
 "serviceDataType": "esriImageServiceDataTypeRGB",
 "minValues": [
  0,
  0,
  0
 ],
 "maxValues": [
  255,
  255,
  255
 ],
 "meanValues": [
  122.16854025870988,
  122.46151672988849,
  121.0790668583711
 ],
 "stdvValues": [
  42.209935198982194,
  41.03493194304208,
  39.46482878809872
 ],
 "objectIdField": "",
 "fields": [],
 "capabilities": "Mensuration,Image,Metadata",
 "defaultMosaicMethod": "Center",
 "allowedMosaicMethods": "",
 "sortField": "",
 "sortValue": null,
 "sortAscending": true,
 "mosaicOperator": "First",
 "defaultCompressionQuality": 75,
 "defaultResamplingMethod": "Bilinear",
 "maxImageHeight": 4100,
 "maxImageWidth": 15000,
 "singleFusedMapCache": true,
 "tileInfo": {
  "rows": 256,
  "cols": 256,
  "dpi": 96,
  "format": "MIXED",
  "compressionQuality": 75,
  "origin": {
   "x": -123407700,
   "y": 164628900
  },
  "spatialReference": {
   "wkid": 102738,
   "latestWkid": 2276
  },
  "lods": [
   {
    "level": 0,
    "resolution": 434.02777777777777,
    "scale": 500000
   },
   {
    "level": 1,
    "resolution": 217.01388888888889,
    "scale": 250000
   },
   {
    "level": 2,
    "resolution": 108.50694444444444,
    "scale": 125000
   },
   {
    "level": 3,
    "resolution": 55.55555555555555,
    "scale": 64000
   },
   {
    "level": 4,
    "resolution": 27.777777777777775,
    "scale": 32000
   },
   {
    "level": 5,
    "resolution": 13.888888888888888,
    "scale": 16000
   },
   {
    "level": 6,
    "resolution": 6.944444444444444,
    "scale": 8000
   },
   {
    "level": 7,
    "resolution": 3.472222222222222,
    "scale": 4000
   },
   {
    "level": 8,
    "resolution": 1.736111111111111,
    "scale": 2000
   },
   {
    "level": 9,
    "resolution": 0.8680555555555555,
    "scale": 1000
   },
   {
    "level": 10,
    "resolution": 0.43402777777777773,
    "scale": 500
   }
  ]
 },
 "cacheType": "Map",
 "allowRasterFunction": true,
 "rasterFunctionInfos": [
  {
   "name": "None",
   "description": "",
   "help": ""
  }
 ],
 "rasterTypeInfos": [
  {
   "name": "Raster Dataset",
   "description": "Supports all ArcGIS Raster Datasets",
   "help": ""
  }
 ],
 "mensurationCapabilities": "Basic",
 "hasHistograms": true,
 "hasColormap": false,
 "hasRasterAttributeTable": false,
 "minScale": 500000,
 "maxScale": 500,
 "minLOD": 0,
 "maxLOD": 10,
 "exportTilesAllowed": false,
 "hasMultidimensions": false,
 "supportsStatistics": false,
 "supportsAdvancedQueries": false,
 "editFieldsInfo": null,
 "ownershipBasedAccessControlForRasters": null,
 "allowComputeTiePoints": false,
 "useStandardizedQueries": true,
 "advancedQueryCapabilities": {
  "useStandardizedQueries": true,
  "supportsStatistics": false,
  "supportsOrderBy": false,
  "supportsDistinct": false,
  "supportsPagination": false
 },
 "spatialReference": {
  "wkid": 102738,
  "latestWkid": 2276
 }
}
