{
 "currentVersion": 10.81,
 "serviceDescription": "Tarrant County 2011 Ortho Imagery sourced from NCTCOG contract.",
 "name": "Aerials/2011_NCTCOG_Ortho",
 "description": "Tarrant County 2011 Ortho Imagery sourced from NCTCOG contract.",
 "extent": {
  "xmin": 2250000,
  "ymin": 6880000,
  "xmax": 2430000,
  "ymax": 7050000,
  "spatialReference": {
   "wkid": 102738,
   "latestWkid": 2276
  }
 },
 "initialExtent": {
  "xmin": 2250000,
  "ymin": 6880000,
  "xmax": 2430000,
  "ymax": 7050000,
  "spatialReference": {
   "wkid": 102738,
   "latestWkid": 2276
  }
 },
 "fullExtent": {
  "xmin": 2250000,
  "ymin": 6880000,
  "xmax": 2430000,
  "ymax": 7050000,
  "spatialReference": {
   "wkid": 102738,
   "latestWkid": 2276
  }
 },
 "pixelSizeX": 0.5,
 "pixelSizeY": 0.5,
 "bandCount": 3,
 "pixelType": "U8",
 "minPixelSize": 0.43402777777777773,
 "maxPixelSize": 27777.777777777777,
 "copyrightText": "",
 "serviceDataType": "esriImageServiceDataTypeRGB",
 "minValues": [
  0,
  6,
  7
 ],
 "maxValues": [
  255,
  255,
  255
 ],
 "meanValues": [
  122.041182,
  124.350739,
  121.841913
 ],
 "stdvValues": [
  31.387127189257516,
  29.26260394178667,
  24.440296619078293
 ],
 "objectIdField": "OBJECTID",
 "fields": [
  {
   "name": "OBJECTID",
   "type": "esriFieldTypeOID",
   "alias": "OBJECTID",
   "domain": null
  },
  {
   "name": "Name",
   "type": "esriFieldTypeString",
   "alias": "Name",
   "domain": null,
   "length": 50
  },
  {
   "name": "MinPS",
   "type": "esriFieldTypeDouble",
   "alias": "MinPS",
   "domain": null
  },
  {
   "name": "MaxPS",
   "type": "esriFieldTypeDouble",
   "alias": "MaxPS",
   "domain": null
  },
  {
   "name": "LowPS",
   "type": "esriFieldTypeDouble",
   "alias": "LowPS",
   "domain": null
  },
  {
   "name": "HighPS",
   "type": "esriFieldTypeDouble",
   "alias": "HighPS",
   "domain": null
  },
  {
   "name": "Category",
   "type": "esriFieldTypeInteger",
   "alias": "Category",
   "domain": {
    "type": "codedValue",
    "name": "MosaicCatalogItemCategoryDomain",
    "description": "Catalog item categories.",
    "codedValues": [
     {
      "name": "Unknown",
      "code": 0
     },
     {
      "name": "Primary",
      "code": 1
     },
     {
      "name": "Overview",
      "code": 2
     },
     {
      "name": "Unprocessed Overview",
      "code": 3
     },
     {
      "name": "Partial Overview",
      "code": 4
     },
     {
      "name": "Uploaded",
      "code": 253
     },
     {
      "name": "Incomplete",
      "code": 254
     },
     {
      "name": "Custom",
      "code": 255
     }
    ],
    "mergePolicy": "esriMPTDefaultValue",
    "splitPolicy": "esriSPTDefaultValue"
   }
  },
  {
   "name": "Tag",
   "type": "esriFieldTypeString",
   "alias": "Tag",
   "domain": null,
   "length": 20
  },
  {
   "name": "GroupName",
   "type": "esriFieldTypeString",
   "alias": "GroupName",
   "domain": null,
   "length": 50
  },
  {
   "name": "ProductName",
   "type": "esriFieldTypeString",
   "alias": "ProductName",
   "domain": null,
   "length": 50
  },
  {
   "name": "CenterX",
   "type": "esriFieldTypeDouble",
   "alias": "CenterX",
   "domain": null
  },
  {
   "name": "CenterY",
   "type": "esriFieldTypeDouble",
   "alias": "CenterY",
   "domain": null
  },
  {
   "name": "ZOrder",
   "type": "esriFieldTypeInteger",
   "alias": "ZOrder",
   "domain": null
  },
  {
   "name": "Shape",
   "type": "esriFieldTypeGeometry",
   "alias": "Shape",
   "domain": null
  },
  {
   "name": "Shape.STArea()",
   "type": "esriFieldTypeDouble",
   "alias": "Shape.STArea()",
   "domain": null
  },
  {
   "name": "Shape.STLength()",
   "type": "esriFieldTypeDouble",
   "alias": "Shape.STLength()",
   "domain": null
  }
 ],
 "capabilities": "Catalog,Image,Metadata",
 "defaultMosaicMethod": "Northwest",
 "allowedMosaicMethods": "NorthWest,Center,LockRaster,ByAttribute,Nadir,Viewpoint,Seamline,None",
 "sortField": "",
 "sortValue": null,
 "sortAscending": true,
 "mosaicOperator": "First",
 "maxDownloadSizeLimit": 0,
 "defaultCompressionQuality": 75,
 "defaultResamplingMethod": "Bilinear",
 "maxImageHeight": 4100,
 "maxImageWidth": 15000,
 "maxRecordCount": 1000,
 "maxDownloadImageCount": 0,
 "maxMosaicImageCount": 20,
 "singleFusedMapCache": true,
 "tileInfo": {
  "rows": 256,
  "cols": 256,
  "dpi": 96,
  "format": "MIXED",
  "compressionQuality": 75,
  "origin": {
   "x": -123407700,
   "y": 164628900
  },
  "spatialReference": {
   "wkid": 102738,
   "latestWkid": 2276
  },
  "lods": [
   {
    "level": 0,
    "resolution": 27777.777777777777,
    "scale": 32000000
   },
   {
    "level": 1,
    "resolution": 13888.888888888889,
    "scale": 16000000
   },
   {
    "level": 2,
    "resolution": 6944.444444444444,
    "scale": 8000000
   },
   {
    "level": 3,
    "resolution": 3472.222222222222,
    "scale": 4000000
   },
   {
    "level": 4,
    "resolution": 1736.111111111111,
    "scale": 2000000
   },
   {
    "level": 5,
    "resolution": 868.0555555555555,
    "scale": 1000000
   },
   {
    "level": 6,
    "resolution": 434.02777777777777,
    "scale": 500000
   },
   {
    "level": 7,
    "resolution": 217.01388888888889,
    "scale": 250000
   },
   {
    "level": 8,
    "resolution": 108.50694444444444,
    "scale": 125000
   },
   {
    "level": 9,
    "resolution": 55.55555555555555,
    "scale": 64000
   },
   {
    "level": 10,
    "resolution": 27.777777777777775,
    "scale": 32000
   },
   {
    "level": 11,
    "resolution": 13.888888888888888,
    "scale": 16000
   },
   {
    "level": 12,
    "resolution": 6.944444444444444,
    "scale": 8000
   },
   {
    "level": 13,
    "resolution": 3.472222222222222,
    "scale": 4000
   },
   {
    "level": 14,
    "resolution": 1.736111111111111,
    "scale": 2000
   },
   {
    "level": 15,
    "resolution": 0.8680555555555555,
    "scale": 1000
   },
   {
    "level": 16,
    "resolution": 0.43402777777777773,
    "scale": 500
   }
  ]
 },
 "cacheType": "Map",
 "allowRasterFunction": true,
 "rasterFunctionInfos": [
  {
   "name": "None",
   "description": "A No-Op Function.",
   "help": ""
  }
 ],
 "rasterTypeInfos": [
  {
   "name": "Raster Dataset",
   "description": "Supports all ArcGIS Raster Datasets",
   "help": ""
  }
 ],
 "mensurationCapabilities": "None",
 "hasHistograms": true,
 "hasColormap": false,
 "hasRasterAttributeTable": false,
 "minScale": 32000000,
 "maxScale": 500,
 "minLOD": 0,
 "maxLOD": 16,
 "exportTilesAllowed": false,
 "hasMultidimensions": false,
 "supportsStatistics": true,
 "supportsAdvancedQueries": true,
 "editFieldsInfo": null,
 "ownershipBasedAccessControlForRasters": null,
 "allowComputeTiePoints": false,
 "useStandardizedQueries": true,
 "advancedQueryCapabilities": {
  "useStandardizedQueries": true,
  "supportsStatistics": true,
  "supportsOrderBy": true,
  "supportsDistinct": true,
  "supportsPagination": true
 },
 "spatialReference": {
  "wkid": 102738,
  "latestWkid": 2276
 }
}
