{ "currentVersion": 10.81, "serviceDescription": "
2017 orthos downloaded from Tarrant County 9-1-1. Captured by Eagle View in early 2017. 4-inch aerials.<\/span><\/p><\/div><\/div><\/div>",
"name": "Aerials/2017_TC911_4in_Ortho",
"description": " 2017 orthos downloaded from Tarrant County 9-1-1. Captured by Eagle View in early 2017. 4-inch aerials.<\/span><\/p><\/div><\/div><\/div>",
"extent": {
"xmin": 2247047.937970645,
"ymin": 6843848.580304195,
"xmax": 2464811.269126345,
"ymax": 7070895.911367055,
"spatialReference": {
"wkid": 102738,
"latestWkid": 2276
}
},
"initialExtent": {
"xmin": 2247047.937970645,
"ymin": 6843848.580304195,
"xmax": 2464811.269126345,
"ymax": 7070895.911367055,
"spatialReference": {
"wkid": 102738,
"latestWkid": 2276
}
},
"fullExtent": {
"xmin": 2247047.937970645,
"ymin": 6843848.580304195,
"xmax": 2464811.269126345,
"ymax": 7070895.911367055,
"spatialReference": {
"wkid": 102738,
"latestWkid": 2276
}
},
"pixelSizeX": 0.3333333300000002,
"pixelSizeY": 0.33333332999999976,
"bandCount": 3,
"pixelType": "U8",
"minPixelSize": 0.21701388888888887,
"maxPixelSize": 55555.555555555555,
"copyrightText": "Tarrant County 9-1-1, Eagle View",
"serviceDataType": "esriImageServiceDataTypeRGB",
"minValues": [
0,
0,
0
],
"maxValues": [
255,
255,
255
],
"meanValues": [
143.41941214090866,
131.53394024824777,
109.2419423887649
],
"stdvValues": [
47.25570108816728,
49.058272634496625,
54.10405552443054
],
"objectIdField": "OBJECTID",
"fields": [
{
"name": "OBJECTID",
"type": "esriFieldTypeOID",
"alias": "OBJECTID",
"domain": null
},
{
"name": "Name",
"type": "esriFieldTypeString",
"alias": "Name",
"domain": null,
"length": 200
},
{
"name": "MinPS",
"type": "esriFieldTypeDouble",
"alias": "MinPS",
"domain": null
},
{
"name": "MaxPS",
"type": "esriFieldTypeDouble",
"alias": "MaxPS",
"domain": null
},
{
"name": "LowPS",
"type": "esriFieldTypeDouble",
"alias": "LowPS",
"domain": null
},
{
"name": "HighPS",
"type": "esriFieldTypeDouble",
"alias": "HighPS",
"domain": null
},
{
"name": "Category",
"type": "esriFieldTypeInteger",
"alias": "Category",
"domain": {
"type": "codedValue",
"name": "MosaicCatalogItemCategoryDomain",
"description": "Catalog item categories.",
"codedValues": [
{
"name": "Unknown",
"code": 0
},
{
"name": "Primary",
"code": 1
},
{
"name": "Overview",
"code": 2
},
{
"name": "Unprocessed Overview",
"code": 3
},
{
"name": "Partial Overview",
"code": 4
},
{
"name": "Uploaded",
"code": 253
},
{
"name": "Incomplete",
"code": 254
},
{
"name": "Custom",
"code": 255
}
],
"mergePolicy": "esriMPTDefaultValue",
"splitPolicy": "esriSPTDefaultValue"
}
},
{
"name": "Tag",
"type": "esriFieldTypeString",
"alias": "Tag",
"domain": null,
"length": 100
},
{
"name": "GroupName",
"type": "esriFieldTypeString",
"alias": "GroupName",
"domain": null,
"length": 100
},
{
"name": "ProductName",
"type": "esriFieldTypeString",
"alias": "ProductName",
"domain": null,
"length": 100
},
{
"name": "CenterX",
"type": "esriFieldTypeDouble",
"alias": "CenterX",
"domain": null
},
{
"name": "CenterY",
"type": "esriFieldTypeDouble",
"alias": "CenterY",
"domain": null
},
{
"name": "ZOrder",
"type": "esriFieldTypeInteger",
"alias": "ZOrder",
"domain": null
},
{
"name": "Shape",
"type": "esriFieldTypeGeometry",
"alias": "Shape",
"domain": null
},
{
"name": "Shape.STArea()",
"type": "esriFieldTypeDouble",
"alias": "Shape.STArea()",
"domain": null
},
{
"name": "Shape.STLength()",
"type": "esriFieldTypeDouble",
"alias": "Shape.STLength()",
"domain": null
}
],
"capabilities": "Catalog,Mensuration,Pixels,Image,Metadata",
"defaultMosaicMethod": "Northwest",
"allowedMosaicMethods": "NorthWest,Center,LockRaster,ByAttribute,Nadir,Viewpoint,Seamline,None",
"sortField": "",
"sortValue": null,
"sortAscending": true,
"mosaicOperator": "First",
"maxDownloadSizeLimit": 0,
"defaultCompressionQuality": 75,
"defaultResamplingMethod": "Bilinear",
"maxImageHeight": 4100,
"maxImageWidth": 15000,
"maxRecordCount": 1000,
"maxDownloadImageCount": 0,
"maxMosaicImageCount": 20,
"singleFusedMapCache": true,
"tileInfo": {
"rows": 256,
"cols": 256,
"dpi": 96,
"format": "MIXED",
"compressionQuality": 75,
"origin": {
"x": -123407700,
"y": 164628900
},
"spatialReference": {
"wkid": 102738,
"latestWkid": 2276
},
"lods": [
{
"level": 0,
"resolution": 55555.555555555555,
"scale": 64000000
},
{
"level": 1,
"resolution": 27777.777777777777,
"scale": 32000000
},
{
"level": 2,
"resolution": 13888.888888888889,
"scale": 16000000
},
{
"level": 3,
"resolution": 6944.444444444444,
"scale": 8000000
},
{
"level": 4,
"resolution": 3472.222222222222,
"scale": 4000000
},
{
"level": 5,
"resolution": 1736.111111111111,
"scale": 2000000
},
{
"level": 6,
"resolution": 868.0555555555555,
"scale": 1000000
},
{
"level": 7,
"resolution": 434.02777777777777,
"scale": 500000
},
{
"level": 8,
"resolution": 217.01388888888889,
"scale": 250000
},
{
"level": 9,
"resolution": 108.50694444444444,
"scale": 125000
},
{
"level": 10,
"resolution": 55.55555555555555,
"scale": 64000
},
{
"level": 11,
"resolution": 27.777777777777775,
"scale": 32000
},
{
"level": 12,
"resolution": 13.888888888888888,
"scale": 16000
},
{
"level": 13,
"resolution": 6.944444444444444,
"scale": 8000
},
{
"level": 14,
"resolution": 3.472222222222222,
"scale": 4000
},
{
"level": 15,
"resolution": 1.736111111111111,
"scale": 2000
},
{
"level": 16,
"resolution": 0.8680555555555555,
"scale": 1000
},
{
"level": 17,
"resolution": 0.43402777777777773,
"scale": 500
},
{
"level": 18,
"resolution": 0.21701388888888887,
"scale": 250
}
]
},
"cacheType": "Map",
"allowRasterFunction": true,
"rasterFunctionInfos": [
{
"name": "None",
"description": "A No-Op Function.",
"help": ""
}
],
"rasterTypeInfos": [
{
"name": "Raster Dataset",
"description": "Supports all ArcGIS Raster Datasets",
"help": ""
}
],
"mensurationCapabilities": "Basic",
"hasHistograms": true,
"hasColormap": false,
"hasRasterAttributeTable": false,
"minScale": 64000000,
"maxScale": 250,
"minLOD": 0,
"maxLOD": 18,
"exportTilesAllowed": false,
"hasMultidimensions": false,
"supportsStatistics": true,
"supportsAdvancedQueries": true,
"editFieldsInfo": null,
"ownershipBasedAccessControlForRasters": null,
"allowComputeTiePoints": false,
"useStandardizedQueries": true,
"advancedQueryCapabilities": {
"useStandardizedQueries": true,
"supportsStatistics": true,
"supportsOrderBy": true,
"supportsDistinct": true,
"supportsPagination": true
},
"spatialReference": {
"wkid": 102738,
"latestWkid": 2276
}
}