{ "currentVersion": 10.81, "serviceDescription": "
Digital elevation model derived from 2007 LAS dataset purchased from NCTCOG.<\/SPAN><\/P><\/DIV><\/DIV><\/DIV>",
"name": "Elevation/2007_DEM",
"description": " Digital elevation model derived from 2007 LAS dataset purchased from NCTCOG.<\/SPAN><\/P><\/DIV><\/DIV><\/DIV>",
"extent": {
"xmin": 2249704,
"ymin": 6879704,
"xmax": 2430294,
"ymax": 7050294,
"spatialReference": {
"wkid": 102738,
"latestWkid": 2276
}
},
"initialExtent": {
"xmin": 2249704,
"ymin": 6879704,
"xmax": 2430294,
"ymax": 7050294,
"spatialReference": {
"wkid": 102738,
"latestWkid": 2276
}
},
"fullExtent": {
"xmin": 2249704,
"ymin": 6879704,
"xmax": 2430294,
"ymax": 7050294,
"spatialReference": {
"wkid": 102738,
"latestWkid": 2276
}
},
"pixelSizeX": 10,
"pixelSizeY": 10,
"bandCount": 1,
"pixelType": "F32",
"minPixelSize": 0,
"maxPixelSize": 0,
"copyrightText": "NCTCOG, Woolpert, Tarrant County",
"serviceDataType": "esriImageServiceDataTypeElevation",
"minValues": [
-611.219970703125
],
"maxValues": [
1805.4649658203125
],
"meanValues": [
670.901602134963
],
"stdvValues": [
113.13346062758114
],
"objectIdField": "",
"fields": [],
"capabilities": "Image,Metadata,Mensuration",
"defaultMosaicMethod": "Center",
"allowedMosaicMethods": "",
"sortField": "",
"sortValue": null,
"sortAscending": true,
"mosaicOperator": "First",
"defaultCompressionQuality": 75,
"defaultResamplingMethod": "Bilinear",
"maxImageHeight": 4100,
"maxImageWidth": 15000,
"allowRasterFunction": true,
"rasterFunctionInfos": [
{
"name": "None",
"description": "",
"help": ""
}
],
"rasterTypeInfos": [
{
"name": "Raster Dataset",
"description": "Supports all ArcGIS Raster Datasets",
"help": ""
}
],
"mensurationCapabilities": "Basic",
"hasHistograms": true,
"hasColormap": false,
"hasRasterAttributeTable": false,
"minScale": 0,
"maxScale": 0,
"exportTilesAllowed": false,
"hasMultidimensions": false,
"supportsStatistics": false,
"supportsAdvancedQueries": false,
"editFieldsInfo": null,
"ownershipBasedAccessControlForRasters": null,
"allowComputeTiePoints": false,
"useStandardizedQueries": true,
"advancedQueryCapabilities": {
"useStandardizedQueries": true,
"supportsStatistics": false,
"supportsOrderBy": false,
"supportsDistinct": false,
"supportsPagination": false
},
"spatialReference": {
"wkid": 102738,
"latestWkid": 2276
}
}