{ "currentVersion": 10.81, "serviceDescription": "
TASK NAME: 2015 NCTCOG Program Lidar Data Acquisition and Processing Production Task Woolpert Order No. 74759 CONTRACTOR: Woolpert, Inc. This data set is comprised of lidar point cloud data, raster DEM, raster DSM, classified XYZ, hydrologic 3-d breaklines, raster intensity, survey control, project tile index, and project data extent. This task order requires lidar data to be acquired in the NCTCOG region including 16 counties consisting of Dallas, Tarrant, Collin, Denton, Rockwall, Kaufman, Wise, Johnson, Hood, Erath, Hunt, Navarro, Ellis, Somervell, Palo Pinto, and Parker, which cover approximately 12,800 square miles. The lidar data will be acquired and processed under the requirements identified in this task order. Lidar data is a remotely sensed high resolution elevation data collected by an airborne platform. The lidar sensor uses a combination of laser range finding, GPS positioning, and inertial measurement technologies. The lidar systems collect data point clouds that are used to produce highly detailed Digital Elevation Models (DEMs) of the earth's terrain, man-made structures, and vegetation. The task required the LiDAR data to be collected at a nominal pulse spacing (NPS) of 0.5 meters. The final products include classified LAS, two (2) feet pixel raster DEMs of the bare-earth surface in ERDAS IMG Format, two (2) feet pixel raster DSMs in ERDAS IMG Format and 8-bit intensity images. Each LAS file contains lidar point information, which has been calibrated, controlled, and classified. Additional deliverables include hydrologic breakline data, control data, tile index, lidar processing and survey reports in PDF format, FGDC metadata files for each data deliverable in .xml format, classified XYZ , LAS swath data and flightline shapefiles. Collected swath files that were that were larger than 2GB were provided in multiple sub-swath files, each less than 2GB. Ground conditions: Water at normal levels; no unusual inundation; no snow; leaf off.<\/SPAN><\/P><\/DIV><\/DIV>",
"name": "Elevation/2015_DSM_COFW",
"description": " TASK NAME: 2015 NCTCOG Program Lidar Data Acquisition and Processing Production Task Woolpert Order No. 74759 CONTRACTOR: Woolpert, Inc. This data set is comprised of lidar point cloud data, raster DEM, raster DSM, classified XYZ, hydrologic 3-d breaklines, raster intensity, survey control, project tile index, and project data extent. This task order requires lidar data to be acquired in the NCTCOG region including 16 counties consisting of Dallas, Tarrant, Collin, Denton, Rockwall, Kaufman, Wise, Johnson, Hood, Erath, Hunt, Navarro, Ellis, Somervell, Palo Pinto, and Parker, which cover approximately 12,800 square miles. The lidar data will be acquired and processed under the requirements identified in this task order. Lidar data is a remotely sensed high resolution elevation data collected by an airborne platform. The lidar sensor uses a combination of laser range finding, GPS positioning, and inertial measurement technologies. The lidar systems collect data point clouds that are used to produce highly detailed Digital Elevation Models (DEMs) of the earth's terrain, man-made structures, and vegetation. The task required the LiDAR data to be collected at a nominal pulse spacing (NPS) of 0.5 meters. The final products include classified LAS, two (2) feet pixel raster DEMs of the bare-earth surface in ERDAS IMG Format, two (2) feet pixel raster DSMs in ERDAS IMG Format and 8-bit intensity images. Each LAS file contains lidar point information, which has been calibrated, controlled, and classified. Additional deliverables include hydrologic breakline data, control data, tile index, lidar processing and survey reports in PDF format, FGDC metadata files for each data deliverable in .xml format, classified XYZ , LAS swath data and flightline shapefiles. Collected swath files that were that were larger than 2GB were provided in multiple sub-swath files, each less than 2GB. Ground conditions: Water at normal levels; no unusual inundation; no snow; leaf off.<\/SPAN><\/P><\/DIV><\/DIV>",
"extent": {
"xmin": 2232280,
"ymin": 6858000,
"xmax": 2421000,
"ymax": 7092496,
"spatialReference": {
"wkid": 102738,
"latestWkid": 2276,
"vcsWkid": 105703,
"latestVcsWkid": 6360
}
},
"initialExtent": {
"xmin": 2232280,
"ymin": 6858000,
"xmax": 2421000,
"ymax": 7092496,
"spatialReference": {
"wkid": 102738,
"latestWkid": 2276,
"vcsWkid": 105703,
"latestVcsWkid": 6360
}
},
"fullExtent": {
"xmin": 2232280,
"ymin": 6858000,
"xmax": 2421000,
"ymax": 7092496,
"spatialReference": {
"wkid": 102738,
"latestWkid": 2276,
"vcsWkid": 105703,
"latestVcsWkid": 6360
}
},
"heightModelInfo": {
"heightModel": "gravity_related_height",
"vertCRS": "NAVD88_height_(ftUS)",
"heightUnit": "us-foot"
},
"pixelSizeX": 2,
"pixelSizeY": 2,
"bandCount": 1,
"pixelType": "F32",
"minPixelSize": 0,
"maxPixelSize": 0,
"copyrightText": "Woolpert, Tarrant County, NCTCOG",
"serviceDataType": "esriImageServiceDataTypeGeneric",
"minValues": [],
"maxValues": [],
"meanValues": [],
"stdvValues": [],
"objectIdField": "OBJECTID",
"fields": [
{
"name": "OBJECTID",
"type": "esriFieldTypeOID",
"alias": "OBJECTID",
"domain": null
},
{
"name": "Name",
"type": "esriFieldTypeString",
"alias": "Name",
"domain": null,
"length": 200
},
{
"name": "MinPS",
"type": "esriFieldTypeDouble",
"alias": "MinPS",
"domain": null
},
{
"name": "MaxPS",
"type": "esriFieldTypeDouble",
"alias": "MaxPS",
"domain": null
},
{
"name": "LowPS",
"type": "esriFieldTypeDouble",
"alias": "LowPS",
"domain": null
},
{
"name": "HighPS",
"type": "esriFieldTypeDouble",
"alias": "HighPS",
"domain": null
},
{
"name": "Category",
"type": "esriFieldTypeInteger",
"alias": "Category",
"domain": {
"type": "codedValue",
"name": "MosaicCatalogItemCategoryDomain",
"description": "Catalog item categories.",
"codedValues": [
{
"name": "Unknown",
"code": 0
},
{
"name": "Primary",
"code": 1
},
{
"name": "Overview",
"code": 2
},
{
"name": "Unprocessed Overview",
"code": 3
},
{
"name": "Partial Overview",
"code": 4
},
{
"name": "Uploaded",
"code": 253
},
{
"name": "Incomplete",
"code": 254
},
{
"name": "Custom",
"code": 255
}
],
"mergePolicy": "esriMPTDefaultValue",
"splitPolicy": "esriSPTDefaultValue"
}
},
{
"name": "Tag",
"type": "esriFieldTypeString",
"alias": "Tag",
"domain": null,
"length": 100
},
{
"name": "GroupName",
"type": "esriFieldTypeString",
"alias": "GroupName",
"domain": null,
"length": 100
},
{
"name": "ProductName",
"type": "esriFieldTypeString",
"alias": "ProductName",
"domain": null,
"length": 100
},
{
"name": "CenterX",
"type": "esriFieldTypeDouble",
"alias": "CenterX",
"domain": null
},
{
"name": "CenterY",
"type": "esriFieldTypeDouble",
"alias": "CenterY",
"domain": null
},
{
"name": "ZOrder",
"type": "esriFieldTypeInteger",
"alias": "ZOrder",
"domain": null
},
{
"name": "Shape",
"type": "esriFieldTypeGeometry",
"alias": "Shape",
"domain": null
},
{
"name": "Shape.STArea()",
"type": "esriFieldTypeDouble",
"alias": "Shape.STArea()",
"domain": null
},
{
"name": "Shape.STLength()",
"type": "esriFieldTypeDouble",
"alias": "Shape.STLength()",
"domain": null
}
],
"capabilities": "Image,Metadata,Catalog",
"defaultMosaicMethod": "Northwest",
"allowedMosaicMethods": "NorthWest,Center,LockRaster,ByAttribute,Nadir,Viewpoint,Seamline,None",
"sortField": "",
"sortValue": null,
"sortAscending": true,
"mosaicOperator": "First",
"maxDownloadSizeLimit": 0,
"defaultCompressionQuality": 75,
"defaultResamplingMethod": "Bilinear",
"maxImageHeight": 4100,
"maxImageWidth": 15000,
"maxRecordCount": 1000,
"maxDownloadImageCount": 0,
"maxMosaicImageCount": 20,
"allowRasterFunction": true,
"rasterFunctionInfos": [
{
"name": "None",
"description": "A No-Op Function.",
"help": ""
}
],
"rasterTypeInfos": [
{
"name": "Raster Dataset",
"description": "Supports all ArcGIS Raster Datasets",
"help": ""
}
],
"mensurationCapabilities": "None",
"hasHistograms": false,
"hasColormap": false,
"hasRasterAttributeTable": false,
"minScale": 0,
"maxScale": 0,
"exportTilesAllowed": false,
"hasMultidimensions": false,
"supportsStatistics": true,
"supportsAdvancedQueries": true,
"editFieldsInfo": null,
"ownershipBasedAccessControlForRasters": null,
"allowComputeTiePoints": false,
"useStandardizedQueries": true,
"advancedQueryCapabilities": {
"useStandardizedQueries": true,
"supportsStatistics": true,
"supportsOrderBy": true,
"supportsDistinct": true,
"supportsPagination": true
},
"spatialReference": {
"wkid": 102738,
"latestWkid": 2276,
"vcsWkid": 105703,
"latestVcsWkid": 6360
}
}