View In:
ArcGIS JavaScript
ArcGIS Online Map Viewer
ArcGIS Earth
ArcMap
View Footprint In:
ArcGIS Online Map Viewer
Service Description: Tarrant County 2017 Ortho Imagery (GEN2). Downloaded and processed from Woolpert via NCTCOG contract on October, 2017.
Name: Aerials/2017_NCTCOG_Ortho
Description: Tarrant County 2017 Ortho Imagery (GEN2). Downloaded and processed from Woolpert via NCTCOG contract on October, 2017.
Single Fused Map Cache: true
Tile Info:
- Height: 256
- Width: 256
- DPI: 96
-
Levels of Detail: 17
- Format: MIXED
- Compression Quality: 75.0
- LERC Error: NaN
- Origin: X: -1.234077E8
Y: 1.646289E8
- Spatial Reference: 102738
(2276)
Extent:
XMin: 2250000.000042215
YMin: 6879999.999740139
XMax: 2430000.000042215
YMax: 7049999.999740139
Spatial Reference: 102738
(2276)
Initial Extent:
XMin: 2250000.000042215
YMin: 6879999.999740139
XMax: 2430000.000042215
YMax: 7049999.999740139
Spatial Reference: 102738
(2276)
Full Extent:
XMin: 2250000.000042215
YMin: 6879999.999740139
XMax: 2430000.000042215
YMax: 7049999.999740139
Spatial Reference: 102738
(2276)
Pixel Size X: 0.5
Pixel Size Y: 0.5
Band Count: 3
Pixel Type: U8
RasterFunction Infos: {"rasterFunctionInfos": [{
"name": "None",
"description": "A No-Op Function.",
"help": ""
}]}
Mensuration Capabilities: Basic
Has Histograms: true
Has Colormap: false
Has Multi Dimensions : false
Rendering Rule:
Min Scale: 32000000
Max Scale: 500
Min LOD: 0
Max LOD: 16
Copyright Text: Tarrant County, Woolpert, NCTCOG
Service Data Type: esriImageServiceDataTypeRGB
Min Values: 0, 8, 2
Max Values: 255, 255, 255
Mean Values: 109.31939190673437, 108.45085465818403, 84.25255377940432
Standard Deviation Values: 34.26132011300258, 30.924589864236726, 31.154762137593718
Object ID Field: OBJECTID
Fields:
-
OBJECTID
(
type: esriFieldTypeOID, alias: OBJECTID
)
-
Name
(
type: esriFieldTypeString, alias: Name, length: 200
)
-
MinPS
(
type: esriFieldTypeDouble, alias: MinPS
)
-
MaxPS
(
type: esriFieldTypeDouble, alias: MaxPS
)
-
LowPS
(
type: esriFieldTypeDouble, alias: LowPS
)
-
HighPS
(
type: esriFieldTypeDouble, alias: HighPS
)
-
Category
(
type: esriFieldTypeInteger, alias: Category
, Coded Values:
[0: Unknown]
, [1: Primary]
, [2: Overview]
, ...5 more...
)
-
Tag
(
type: esriFieldTypeString, alias: Tag, length: 100
)
-
GroupName
(
type: esriFieldTypeString, alias: GroupName, length: 100
)
-
ProductName
(
type: esriFieldTypeString, alias: ProductName, length: 100
)
-
CenterX
(
type: esriFieldTypeDouble, alias: CenterX
)
-
CenterY
(
type: esriFieldTypeDouble, alias: CenterY
)
-
ZOrder
(
type: esriFieldTypeInteger, alias: ZOrder
)
-
Shape
(
type: esriFieldTypeGeometry, alias: Shape
)
-
Thumbnail
(
type: esriFieldTypeBlob, alias: Thumbnail
)
-
Shape.STArea()
(
type: esriFieldTypeDouble, alias: Shape.STArea()
)
-
Shape.STLength()
(
type: esriFieldTypeDouble, alias: Shape.STLength()
)
Default Mosaic Method: Northwest
Allowed Mosaic Methods: NorthWest,Center,LockRaster,ByAttribute,Nadir,Viewpoint,Seamline,None
SortField:
SortValue: null
Mosaic Operator: First
Default Compression Quality: 75
Default Resampling Method: Bilinear
Max Record Count: 2000
Max Image Height: 4100
Max Image Width: 15000
Max Download Image Count: 0
Max Mosaic Image Count: 20
Allow Raster Function: true
Allow Copy: null
Allow Analysis: null
Allow Compute TiePoints: false
Supports Statistics: true
Supports Advanced Queries: true
Use StandardizedQueries: true
Raster Type Infos:
Name: Raster Dataset
Description: Supports all ArcGIS Raster Datasets
Help:
Has Raster Attribute Table: false
Edit Fields Info: null
Ownership Based AccessControl For Rasters: null
Child Resources:
Info
Histograms
Key Properties
Legend
Raster Function Infos
Supported Operations:
Export Image
Query
Identify
Measure
Compute Histograms
Compute Statistics Histograms
Get Samples
Compute Class Statistics
Query Boundary
Compute Pixel Location
Validate
Project