View In:
ArcGIS JavaScript
ArcGIS Online Map Viewer
ArcGIS Earth
ArcMap
View Footprint In:
ArcGIS Online Map Viewer
Service Description: Digital surface model derived from 2007 LAS dataset purchased from NCTCOG.
Name: Elevation/2007_DSM
Description: Digital surface model derived from 2007 LAS dataset purchased from NCTCOG.
Single Fused Map Cache: false
Extent:
XMin: 2249704
YMin: 6879704
XMax: 2430294
YMax: 7050294
Spatial Reference: 102738
(2276)
Initial Extent:
XMin: 2249704
YMin: 6879704
XMax: 2430294
YMax: 7050294
Spatial Reference: 102738
(2276)
Full Extent:
XMin: 2249704
YMin: 6879704
XMax: 2430294
YMax: 7050294
Spatial Reference: 102738
(2276)
Pixel Size X: 10.0
Pixel Size Y: 10.0
Band Count: 1
Pixel Type: F32
RasterFunction Infos: {"rasterFunctionInfos": [{
"name": "None",
"description": "",
"help": ""
}]}
Mensuration Capabilities: Basic
Has Histograms: true
Has Colormap: false
Has Multi Dimensions : false
Rendering Rule:
Min Scale: 0
Max Scale: 0
Copyright Text: NCTCOG, Woolpert, Tarrant County
Service Data Type: esriImageServiceDataTypeElevation
Min Values: 401.57501220703125
Max Values: 1036.97998046875
Mean Values: 682.8821576975355
Standard Deviation Values: 111.83759052318338
Object ID Field:
Fields:
None
Default Mosaic Method: Center
Allowed Mosaic Methods:
SortField:
SortValue: null
Mosaic Operator: First
Default Compression Quality: 75
Default Resampling Method: Bilinear
Max Record Count: null
Max Image Height: 4100
Max Image Width: 15000
Max Download Image Count: null
Max Mosaic Image Count: null
Allow Raster Function: true
Allow Copy: null
Allow Analysis: null
Allow Compute TiePoints: false
Supports Statistics: false
Supports Advanced Queries: false
Use StandardizedQueries: true
Raster Type Infos:
Name: Raster Dataset
Description: Supports all ArcGIS Raster Datasets
Help:
Has Raster Attribute Table: false
Edit Fields Info: null
Ownership Based AccessControl For Rasters: null
Child Resources:
Info
Histograms
Key Properties
Legend
Raster Function Infos
Supported Operations:
Export Image
Identify
Measure
Compute Histograms
Compute Statistics Histograms
Get Samples
Compute Class Statistics
Query Boundary
Compute Pixel Location
Validate
Project
Calculate Volume