View In:
ArcGIS JavaScript
ArcGIS Online Map Viewer
ArcGIS Earth
ArcMap
View Footprint In:
ArcGIS Online Map Viewer
Service Description: This orthorectified natural color imagery is part of an orthophotography project covering 17 counties in north central Texas. The orthophotography is tiled into a grid of images which depict color aerial photographs. Lens and terrain distortion has been removed and tonal differences between adjacent images have been minimized to form a mosaic of the entire 17 county project area. Orthorectified imagery is assumed to depict features at ground level, so above ground features may show terrain distortion. The only exceptions to this are bridges and elevated roads, which have been checked for distortion and manually replaced by their previous unrectified versions.
Name: Aerials/2007_NCTCOG_Ortho
Description: This orthorectified natural color imagery is part of an orthophotography project covering 17 counties in north central Texas. The orthophotography is tiled into a grid of images which depict color aerial photographs. Lens and terrain distortion has been removed and tonal differences between adjacent images have been minimized to form a mosaic of the entire 17 county project area. Orthorectified imagery is assumed to depict features at ground level, so above ground features may show terrain distortion. The only exceptions to this are bridges and elevated roads, which have been checked for distortion and manually replaced by their previous unrectified versions.
Single Fused Map Cache: true
Tile Info:
- Height: 256
- Width: 256
- DPI: 96
-
Levels of Detail: 11
- Format: MIXED
- Compression Quality: 75.0
- LERC Error: NaN
- Origin: X: -1.234077E8
Y: 1.646289E8
- Spatial Reference: 102738
(2276)
Extent:
XMin: 2252990
YMin: 6849990
XMax: 2427010
YMax: 7068010
Spatial Reference: 102738
(2276)
Initial Extent:
XMin: 2252990
YMin: 6849990
XMax: 2427010
YMax: 7068010
Spatial Reference: 102738
(2276)
Full Extent:
XMin: 2252990
YMin: 6849990
XMax: 2427010
YMax: 7068010
Spatial Reference: 102738
(2276)
Pixel Size X: 0.5
Pixel Size Y: 0.5
Band Count: 3
Pixel Type: U8
RasterFunction Infos: {"rasterFunctionInfos": [{
"name": "None",
"description": "",
"help": ""
}]}
Mensuration Capabilities: Basic
Has Histograms: true
Has Colormap: false
Has Multi Dimensions : false
Rendering Rule:
Min Scale: 500000
Max Scale: 500
Min LOD: 0
Max LOD: 10
Copyright Text: Project funding for capture and distribution has been provided by TXDOT and a collaboration of regional public and private agencies.
Service Data Type: esriImageServiceDataTypeRGB
Min Values: 0, 0, 0
Max Values: 255, 255, 255
Mean Values: 122.16854025870988, 122.46151672988849, 121.0790668583711
Standard Deviation Values: 42.209935198982194, 41.03493194304208, 39.46482878809872
Object ID Field:
Fields:
None
Default Mosaic Method: Center
Allowed Mosaic Methods:
SortField:
SortValue: null
Mosaic Operator: First
Default Compression Quality: 75
Default Resampling Method: Bilinear
Max Record Count: null
Max Image Height: 4100
Max Image Width: 15000
Max Download Image Count: null
Max Mosaic Image Count: null
Allow Raster Function: true
Allow Copy: null
Allow Analysis: null
Allow Compute TiePoints: false
Supports Statistics: false
Supports Advanced Queries: false
Use StandardizedQueries: true
Raster Type Infos:
Name: Raster Dataset
Description: Supports all ArcGIS Raster Datasets
Help:
Has Raster Attribute Table: false
Edit Fields Info: null
Ownership Based AccessControl For Rasters: null
Child Resources:
Info
Histograms
Key Properties
Legend
Raster Function Infos
Supported Operations:
Export Image
Identify
Measure
Compute Histograms
Compute Statistics Histograms
Get Samples
Compute Class Statistics
Query Boundary
Compute Pixel Location
Validate
Project